BEGIN:VCALENDAR
VERSION:2.0
PRODID:-//My Cleveland History - ECPv6.15.12.2//NONSGML v1.0//EN
CALSCALE:GREGORIAN
METHOD:PUBLISH
X-WR-CALNAME:My Cleveland History
X-ORIGINAL-URL:https://myclevelandhistory.com
X-WR-CALDESC:Events for My Cleveland History
REFRESH-INTERVAL;VALUE=DURATION:PT1H
X-Robots-Tag:noindex
X-PUBLISHED-TTL:PT1H
BEGIN:VTIMEZONE
TZID:America/New_York
BEGIN:DAYLIGHT
TZOFFSETFROM:-0500
TZOFFSETTO:-0400
TZNAME:EDT
DTSTART:20250309T070000
END:DAYLIGHT
BEGIN:STANDARD
TZOFFSETFROM:-0400
TZOFFSETTO:-0500
TZNAME:EST
DTSTART:20251102T060000
END:STANDARD
BEGIN:DAYLIGHT
TZOFFSETFROM:-0500
TZOFFSETTO:-0400
TZNAME:EDT
DTSTART:20260308T070000
END:DAYLIGHT
BEGIN:STANDARD
TZOFFSETFROM:-0400
TZOFFSETTO:-0500
TZNAME:EST
DTSTART:20261101T060000
END:STANDARD
BEGIN:DAYLIGHT
TZOFFSETFROM:-0500
TZOFFSETTO:-0400
TZNAME:EDT
DTSTART:20270314T070000
END:DAYLIGHT
BEGIN:STANDARD
TZOFFSETFROM:-0400
TZOFFSETTO:-0500
TZNAME:EST
DTSTART:20271107T060000
END:STANDARD
END:VTIMEZONE
BEGIN:VEVENT
DTSTART;TZID=America/New_York:20261114T100000
DTEND;TZID=America/New_York:20261114T150000
DTSTAMP:20260421T044148
CREATED:20260331T190714Z
LAST-MODIFIED:20260331T190714Z
UID:2272-1794650400-1794668400@myclevelandhistory.com
SUMMARY:Czech Holiday Fair
DESCRIPTION:Join us at the historical Bohemian National Hall for the annual Czech Holiday Fair- Crafts\, Christmas Ornaments\, food and more…. \nDetails to posted SOON!
URL:https://myclevelandhistory.com/event/czech-holiday-fair/
LOCATION:Bohemian National Hall\, 4939 Broadway Ave\, Cleveland\,\, 44127\, United States
CATEGORIES:Book Sigining,Festival
END:VEVENT
END:VCALENDAR